BEGIN:VCALENDAR
VERSION:2.0
PRODID:-//Downwind Ceara - ECPv6.15.20//NONSGML v1.0//EN
CALSCALE:GREGORIAN
METHOD:PUBLISH
X-WR-CALNAME:Downwind Ceara
X-ORIGINAL-URL:https://shareachange.org
X-WR-CALDESC:Events for Downwind Ceara
REFRESH-INTERVAL;VALUE=DURATION:PT1H
X-Robots-Tag:noindex
X-PUBLISHED-TTL:PT1H
BEGIN:VTIMEZONE
TZID:UTC
BEGIN:STANDARD
TZOFFSETFROM:+0000
TZOFFSETTO:+0000
TZNAME:UTC
DTSTART:20220101T000000
END:STANDARD
END:VTIMEZONE
BEGIN:VEVENT
DTSTART;TZID=UTC:20240413T100000
DTEND;TZID=UTC:20240413T120000
DTSTAMP:20260423T001540
CREATED:20240227T115908Z
LAST-MODIFIED:20240227T115937Z
UID:1839-1713002400-1713009600@shareachange.org
SUMMARY:Tennis
DESCRIPTION:Want to find 3 players to play doubles
URL:https://shareachange.org/event/tennis/
ATTACH;FMTTYPE=image/jpeg:https://shareachange.org/wp-content/uploads/2024/02/duquetenis3.jpeg
END:VEVENT
BEGIN:VEVENT
DTSTART;TZID=UTC:20240327T100000
DTEND;TZID=UTC:20240327T170000
DTSTAMP:20260423T001540
CREATED:20240226T143348Z
LAST-MODIFIED:20240227T115517Z
UID:1833-1711533600-1711558800@shareachange.org
SUMMARY:Test Community Event Submission v1
DESCRIPTION:Test \n 
URL:https://shareachange.org/event/test-community-event-submission-v1/
END:VEVENT
BEGIN:VEVENT
DTSTART;TZID=UTC:20240308T080000
DTEND;TZID=UTC:20240308T110000
DTSTAMP:20260423T001540
CREATED:20240215T105500Z
LAST-MODIFIED:20240226T122544Z
UID:1778-1709884800-1709895600@shareachange.org
SUMMARY:Gimnastics
DESCRIPTION:I am training gimnastics\, and looking for a coach.
URL:https://shareachange.org/event/gimnastics/
ATTACH;FMTTYPE=image/jpeg:https://shareachange.org/wp-content/uploads/2024/02/acro.jpeg
END:VEVENT
BEGIN:VEVENT
DTSTART;TZID=UTC:20240219T080000
DTEND;TZID=UTC:20240219T170000
DTSTAMP:20260423T001540
CREATED:20240205T111948Z
LAST-MODIFIED:20240215T014516Z
UID:1484-1708329600-1708362000@shareachange.org
SUMMARY:Car ride to campus
DESCRIPTION:I need a ride from Belem to campus every day around 8 am!Anyone willing to share a car ride? \n 
URL:https://shareachange.org/event/car-ride-to-campus/
ATTACH;FMTTYPE=image/jpeg:https://shareachange.org/wp-content/uploads/2024/02/hitchhike.jpeg
END:VEVENT
BEGIN:VEVENT
DTSTART;TZID=UTC:20240111T200000
DTEND;TZID=UTC:20240111T230000
DTSTAMP:20260423T001540
CREATED:20231225T104538Z
LAST-MODIFIED:20240215T104436Z
UID:1473-1705003200-1705014000@shareachange.org
SUMMARY:Fado dinner
DESCRIPTION:I will be in Lisbon the second week of January\, and want to watch fado\, but not alone. Want to join me?
URL:https://shareachange.org/event/fado-dinner/
LOCATION:Tasca do Chico\, R. do Diário de Notícias 39\, Lisboa\, Lisboa\, 1200-141\, Portugal
ATTACH;FMTTYPE=image/jpeg:https://shareachange.org/wp-content/uploads/2023/12/fado_creative.jpeg
END:VEVENT
BEGIN:VEVENT
DTSTART;TZID=UTC:20231230T000000
DTEND;TZID=UTC:20231230T235959
DTSTAMP:20260423T001540
CREATED:20231210T151027Z
LAST-MODIFIED:20231213T144825Z
UID:1444-1703894400-1703980799@shareachange.org
SUMMARY:Language exchange
DESCRIPTION:LEt’s talk
URL:https://shareachange.org/event/language-exchange/
LOCATION:secreto energy\, calle guirre 24\, Corralejo\, Las Palmas\, 35660\, Spain
ATTACH;FMTTYPE=image/jpeg:https://shareachange.org/wp-content/uploads/2023/12/estudio-de-cancer-de-mama-metastasico-dipcan.jpeg
ORGANIZER;CN="Sr Wilson":MAILTO:srwilsonmarketing@gmail.com
END:VEVENT
BEGIN:VEVENT
DTSTART;VALUE=DATE:20231224
DTEND;VALUE=DATE:20231225
DTSTAMP:20260423T001540
CREATED:20231209T172123Z
LAST-MODIFIED:20231209T172123Z
UID:1427-1703376000-1703462399@shareachange.org
SUMMARY:surfing
DESCRIPTION:yeah
URL:https://shareachange.org/event/surfing/
ATTACH;FMTTYPE=image/jpeg:https://shareachange.org/wp-content/uploads/2023/12/Potencia-y-simplifica-la-gestion-de-tu-hotel-con-protel.jpeg
END:VEVENT
BEGIN:VEVENT
DTSTART;TZID=UTC:20231216T080000
DTEND;TZID=UTC:20231216T170000
DTSTAMP:20260423T001540
CREATED:20231209T103118Z
LAST-MODIFIED:20231210T155851Z
UID:1218-1702713600-1702746000@shareachange.org
SUMMARY:Kite transportation
DESCRIPTION:let’s share my car to kite \n\n\n\n\n\n\n\n\n\n\n\n\n\n\n\n\nTalk with the attendees & organizer here: Join the Event Chat
URL:https://shareachange.org/event/kite-transportation/
LOCATION:Rua grande\, calle calle\, Rio\, Madrid\, 28792\, Spain
ATTACH;FMTTYPE=image/jpeg:https://shareachange.org/wp-content/uploads/2023/12/IMG_7686.jpg
ORGANIZER;CN="Jesus D":MAILTO:jesusdr85@gmail.com
END:VEVENT
BEGIN:VEVENT
DTSTART;TZID=UTC:20231214T090000
DTEND;TZID=UTC:20231214T170000
DTSTAMP:20260423T001540
CREATED:20231213T142900Z
LAST-MODIFIED:20240215T014347Z
UID:1460-1702544400-1702573200@shareachange.org
SUMMARY:Morning Yoga - Breath Work
DESCRIPTION:I am giving a workshop on Breath Work\, following Hoffmann’s practice of mindfulness. We are meeting at the beach in front of the big Tree\, at 9am. Come\, it’s free! \n\n\n\n\n\n\n\n\n\n 
URL:https://shareachange.org/event/morning-yoga-breath-work/
LOCATION:jericoacoara\, Jericoacoara\, Ceara\, Brazil
ATTACH;FMTTYPE=image/jpeg:https://shareachange.org/wp-content/uploads/2023/12/bird_watching.jpeg
END:VEVENT
BEGIN:VEVENT
DTSTART;TZID=UTC:20231209T080000
DTEND;TZID=UTC:20231209T170000
DTSTAMP:20260423T001540
CREATED:20231209T182542Z
LAST-MODIFIED:20231209T182542Z
UID:1439-1702108800-1702141200@shareachange.org
SUMMARY:sarf
DESCRIPTION:yeah
URL:https://shareachange.org/event/sarf/
ORGANIZER;CN="jaj":MAILTO:jaj@gm.co
END:VEVENT
END:VCALENDAR